Package: RMassBank Version: 3.18.0 Command: /Library/Frameworks/R.framework/Resources/bin/R CMD build --keep-empty-dirs --no-resave-data RMassBank StartedAt: 2025-10-14 07:56:09 -0400 (Tue, 14 Oct 2025) EndedAt: 2025-10-14 08:04:09 -0400 (Tue, 14 Oct 2025) EllapsedTime: 479.1 seconds RetCode: 0 Status: OK PackageFile: RMassBank_3.18.0.tar.gz PackageFileSize: 1.839 MiB