Package: RLMM Version: 1.70.0 Command: chmod a+r RLMM -R && E:\biocbuild\bbs-3.21-bioc\R\bin\R.exe CMD build --keep-empty-dirs --no-resave-data RLMM StartedAt: 2025-08-14 21:46:53 -0400 (Thu, 14 Aug 2025) EndedAt: 2025-08-14 21:47:06 -0400 (Thu, 14 Aug 2025) EllapsedTime: 12.9 seconds RetCode: 0 Status: OK PackageFile: RLMM_1.70.0.tar.gz PackageFileSize: 229.9 KiB