Package: RLMM Version: 1.70.0 Command: /Library/Frameworks/R.framework/Resources/bin/R CMD check --install=check:RLMM.install-out.txt --library=/Library/Frameworks/R.framework/Resources/library --no-vignettes --timings RLMM_1.70.0.tar.gz StartedAt: 2025-10-14 09:16:45 -0400 (Tue, 14 Oct 2025) EndedAt: 2025-10-14 09:17:27 -0400 (Tue, 14 Oct 2025) EllapsedTime: 41.4 seconds RetCode: 0 Status: OK CheckDir: RLMM.Rcheck Warnings: 0