Package: RLMM Version: 1.70.0 Command: /Library/Frameworks/R.framework/Resources/bin/R CMD build --keep-empty-dirs --no-resave-data RLMM StartedAt: 2025-10-13 22:03:46 -0400 (Mon, 13 Oct 2025) EndedAt: 2025-10-13 22:04:03 -0400 (Mon, 13 Oct 2025) EllapsedTime: 17.3 seconds RetCode: 0 Status: OK PackageFile: RLMM_1.70.0.tar.gz PackageFileSize: 419.1 KiB