Package: RLMM Version: 1.72.0 Command: /Library/Frameworks/R.framework/Resources/bin/R CMD check --install=check:RLMM.install-out.txt --library=/Library/Frameworks/R.framework/Resources/library --no-vignettes --timings RLMM_1.72.0.tar.gz StartedAt: 2025-11-03 23:47:58 -0500 (Mon, 03 Nov 2025) EndedAt: 2025-11-03 23:48:23 -0500 (Mon, 03 Nov 2025) EllapsedTime: 25.2 seconds RetCode: 0 Status: OK CheckDir: RLMM.Rcheck Warnings: 0