Package: RJMCMCNucleosomes Version: 1.34.0 Command: /home/biocbuild/R/R/bin/R CMD build --keep-empty-dirs --no-resave-data RJMCMCNucleosomes StartedAt: 2025-11-21 05:15:16 -0000 (Fri, 21 Nov 2025) EndedAt: 2025-11-21 05:17:00 -0000 (Fri, 21 Nov 2025) EllapsedTime: 104.0 seconds RetCode: 0 Status: OK PackageFile: RJMCMCNucleosomes_1.34.0.tar.gz PackageFileSize: 534.5 KiB