Package: RJMCMCNucleosomes Version: 1.33.2 Command: chmod a+r RJMCMCNucleosomes -R && F:\biocbuild\bbs-3.22-bioc\R\bin\R.exe CMD build --keep-empty-dirs --no-resave-data RJMCMCNucleosomes StartedAt: 2025-08-14 22:48:09 -0400 (Thu, 14 Aug 2025) EndedAt: 2025-08-14 22:50:13 -0400 (Thu, 14 Aug 2025) EllapsedTime: 124.1 seconds RetCode: 0 Status: OK PackageFile: RJMCMCNucleosomes_1.33.2.tar.gz PackageFileSize: 409.1 KiB