Package: RJMCMCNucleosomes Version: 1.33.2 Command: rm -rf RJMCMCNucleosomes.buildbin-libdir && mkdir RJMCMCNucleosomes.buildbin-libdir && F:\biocbuild\bbs-3.22-bioc\R\bin\R.exe CMD INSTALL --build --library=RJMCMCNucleosomes.buildbin-libdir RJMCMCNucleosomes_1.33.2.tar.gz StartedAt: 2025-08-15 11:09:05 -0400 (Fri, 15 Aug 2025) EndedAt: 2025-08-15 11:10:55 -0400 (Fri, 15 Aug 2025) EllapsedTime: 109.5 seconds RetCode: 0 Status: OK PackageFile: RJMCMCNucleosomes_1.33.2.zip PackageFileSize: 910.5 KiB