Package: RJMCMCNucleosomes Version: 1.34.0 Command: /Library/Frameworks/R.framework/Resources/bin/R CMD check --install=check:RJMCMCNucleosomes.install-out.txt --library=/Library/Frameworks/R.framework/Resources/library --no-vignettes --timings RJMCMCNucleosomes_1.34.0.tar.gz StartedAt: 2025-11-21 10:35:14 -0500 (Fri, 21 Nov 2025) EndedAt: 2025-11-21 10:44:11 -0500 (Fri, 21 Nov 2025) EllapsedTime: 536.5 seconds RetCode: 0 Status: OK CheckDir: RJMCMCNucleosomes.Rcheck Warnings: 0