Package: RJMCMCNucleosomes Version: 1.34.0 Command: /Library/Frameworks/R.framework/Resources/bin/R CMD check --install=check:RJMCMCNucleosomes.install-out.txt --library=/Library/Frameworks/R.framework/Resources/library --no-vignettes --timings RJMCMCNucleosomes_1.34.0.tar.gz StartedAt: 2025-11-03 23:47:50 -0500 (Mon, 03 Nov 2025) EndedAt: 2025-11-03 23:52:31 -0500 (Mon, 03 Nov 2025) EllapsedTime: 280.5 seconds RetCode: 0 Status: OK CheckDir: RJMCMCNucleosomes.Rcheck Warnings: 0