Package: RJMCMCNucleosomes Version: 1.34.0 Command: rm -rf RJMCMCNucleosomes.buildbin-libdir && mkdir RJMCMCNucleosomes.buildbin-libdir && /Users/biocbuild/BBS/utils/build-universal.sh RJMCMCNucleosomes_1.34.0.tar.gz /Library/Frameworks/R.framework/Resources/bin/R RJMCMCNucleosomes.buildbin-libdir StartedAt: 2025-11-01 01:53:27 -0400 (Sat, 01 Nov 2025) EndedAt: 2025-11-01 01:54:34 -0400 (Sat, 01 Nov 2025) EllapsedTime: 66.9 seconds RetCode: 0 Status: OK PackageFile: RJMCMCNucleosomes_1.34.0.tgz PackageFileSize: 748.9 KiB