Package: RImmPort Version: 1.37.0 Command: /home/biocbuild/R/R/bin/R CMD check --install=check:RImmPort.install-out.txt --library=/home/biocbuild/R/R/site-library --no-vignettes --timings RImmPort_1.37.0.tar.gz StartedAt: 2025-10-17 12:50:48 -0000 (Fri, 17 Oct 2025) EndedAt: 2025-10-17 12:51:39 -0000 (Fri, 17 Oct 2025) EllapsedTime: 51.1 seconds RetCode: 0 Status: OK CheckDir: RImmPort.Rcheck Warnings: 0