Package: RImmPort Version: 1.38.0 Command: /home/biocbuild/bbs-3.22-bioc/R/bin/R CMD INSTALL RImmPort StartedAt: 2025-11-06 15:08:18 -0500 (Thu, 06 Nov 2025) EndedAt: 2025-11-06 15:08:27 -0500 (Thu, 06 Nov 2025) EllapsedTime: 8.8 seconds RetCode: 0 Status: OK