Package: RImmPort Version: 1.38.0 Command: /Library/Frameworks/R.framework/Resources/bin/R CMD check --install=check:RImmPort.install-out.txt --library=/Library/Frameworks/R.framework/Resources/library --no-vignettes --timings RImmPort_1.38.0.tar.gz StartedAt: 2025-11-03 23:47:04 -0500 (Mon, 03 Nov 2025) EndedAt: 2025-11-03 23:48:01 -0500 (Mon, 03 Nov 2025) EllapsedTime: 56.1 seconds RetCode: 0 Status: OK CheckDir: RImmPort.Rcheck Warnings: 0