Package: RImmPort Version: 1.38.0 Command: /Library/Frameworks/R.framework/Resources/bin/R CMD build --keep-empty-dirs --no-resave-data RImmPort StartedAt: 2025-11-06 17:31:31 -0500 (Thu, 06 Nov 2025) EndedAt: 2025-11-06 17:31:43 -0500 (Thu, 06 Nov 2025) EllapsedTime: 12.1 seconds RetCode: 0 Status: OK PackageFile: RImmPort_1.38.0.tar.gz PackageFileSize: 2.823 MiB