Package: RImmPort Version: 1.38.0 Command: rm -rf RImmPort.buildbin-libdir && mkdir RImmPort.buildbin-libdir && /Users/biocbuild/BBS/utils/build-universal.sh RImmPort_1.38.0.tar.gz /Library/Frameworks/R.framework/Resources/bin/R RImmPort.buildbin-libdir StartedAt: 2025-11-06 23:18:48 -0500 (Thu, 06 Nov 2025) EndedAt: 2025-11-06 23:18:52 -0500 (Thu, 06 Nov 2025) EllapsedTime: 4.1 seconds RetCode: 0 Status: OK PackageFile: RImmPort_1.38.0.tgz PackageFileSize: 2.525 MiB