Package: RImmPort Version: 1.38.0 Maintainer: Zicheng Hu , Ravi Shankar MaintainerEmail: rshankar at stanford.edu git_url: https://git.bioconductor.org/packages/RImmPort git_branch: RELEASE_3_22 git_last_commit: 0019565 git_last_commit_date: 2025-10-29 10:30:06 -0500 (Wed, 29 Oct 2025)