Package: RIVER Version: 1.32.0 Command: E:\biocbuild\bbs-3.21-bioc\R\bin\R.exe CMD INSTALL RIVER StartedAt: 2025-08-14 15:41:06 -0400 (Thu, 14 Aug 2025) EndedAt: 2025-08-14 15:41:21 -0400 (Thu, 14 Aug 2025) EllapsedTime: 15.3 seconds RetCode: 0 Status: OK