Package: RIVER Version: 1.32.0 Command: E:\biocbuild\bbs-3.21-bioc\R\bin\R.exe CMD check --no-multiarch --install=check:RIVER.install-out.txt --library=E:\biocbuild\bbs-3.21-bioc\R\library --no-vignettes --timings RIVER_1.32.0.tar.gz StartedAt: 2025-08-15 06:10:04 -0400 (Fri, 15 Aug 2025) EndedAt: 2025-08-15 06:11:51 -0400 (Fri, 15 Aug 2025) EllapsedTime: 107.2 seconds RetCode: 0 Status: OK CheckDir: RIVER.Rcheck Warnings: 0