Package: RIVER Version: 1.32.0 Command: chmod a+r RIVER -R && E:\biocbuild\bbs-3.21-bioc\R\bin\R.exe CMD build --keep-empty-dirs --no-resave-data RIVER StartedAt: 2025-08-14 21:46:21 -0400 (Thu, 14 Aug 2025) EndedAt: 2025-08-14 21:47:02 -0400 (Thu, 14 Aug 2025) EllapsedTime: 41.0 seconds RetCode: 0 Status: OK PackageFile: RIVER_1.32.0.tar.gz PackageFileSize: 1.256 MiB