Package: RIVER Version: 1.32.0 Command: rm -rf RIVER.buildbin-libdir && mkdir RIVER.buildbin-libdir && E:\biocbuild\bbs-3.21-bioc\R\bin\R.exe CMD INSTALL --build --library=RIVER.buildbin-libdir RIVER_1.32.0.tar.gz StartedAt: 2025-08-15 10:07:41 -0400 (Fri, 15 Aug 2025) EndedAt: 2025-08-15 10:07:56 -0400 (Fri, 15 Aug 2025) EllapsedTime: 15.1 seconds RetCode: 0 Status: OK PackageFile: RIVER_1.32.0.zip PackageFileSize: 1.291 MiB