Package: RIVER Version: 1.32.0 Command: /Library/Frameworks/R.framework/Resources/bin/R CMD check --install=check:RIVER.install-out.txt --library=/Library/Frameworks/R.framework/Resources/library --no-vignettes --timings RIVER_1.32.0.tar.gz StartedAt: 2025-10-14 09:16:25 -0400 (Tue, 14 Oct 2025) EndedAt: 2025-10-14 09:19:26 -0400 (Tue, 14 Oct 2025) EllapsedTime: 180.8 seconds RetCode: 0 Status: OK CheckDir: RIVER.Rcheck Warnings: 0