Package: RIVER Version: 1.32.0 Command: /home/biocbuild/R/R/bin/R CMD check --install=check:RIVER.install-out.txt --library=/home/biocbuild/R/R/site-library --no-vignettes --timings RIVER_1.32.0.tar.gz StartedAt: 2025-10-14 13:20:55 -0000 (Tue, 14 Oct 2025) EndedAt: 2025-10-14 13:22:54 -0000 (Tue, 14 Oct 2025) EllapsedTime: 119.1 seconds RetCode: 0 Status: OK CheckDir: RIVER.Rcheck Warnings: 0