Package: RIVER Version: 1.32.0 Maintainer: Yungil Kim MaintainerEmail: ipw012 at gmail.com git_url: https://git.bioconductor.org/packages/RIVER git_branch: RELEASE_3_21 git_last_commit: e278e1e git_last_commit_date: 2025-04-15 11:10:07 -0400 (Tue, 15 Apr 2025)