Package: RGraph2js Version: 1.37.0 Command: F:\biocbuild\bbs-3.22-bioc\R\bin\R.exe CMD check --no-multiarch --install=check:RGraph2js.install-out.txt --library=F:\biocbuild\bbs-3.22-bioc\R\library --no-vignettes --timings RGraph2js_1.37.0.tar.gz StartedAt: 2025-08-15 07:02:57 -0400 (Fri, 15 Aug 2025) EndedAt: 2025-08-15 07:03:42 -0400 (Fri, 15 Aug 2025) EllapsedTime: 45.2 seconds RetCode: 0 Status: OK CheckDir: RGraph2js.Rcheck Warnings: 0