Package: RGraph2js Version: 1.38.0 Command: /home/biocbuild/bbs-3.22-bioc/R/bin/R CMD INSTALL RGraph2js StartedAt: 2025-11-06 15:11:34 -0500 (Thu, 06 Nov 2025) EndedAt: 2025-11-06 15:11:38 -0500 (Thu, 06 Nov 2025) EllapsedTime: 3.3 seconds RetCode: 0 Status: OK