Package: RGraph2js Version: 1.38.0 Command: /Library/Frameworks/R.framework/Resources/bin/R CMD INSTALL RGraph2js StartedAt: 2025-11-03 15:18:50 -0500 (Mon, 03 Nov 2025) EndedAt: 2025-11-03 15:18:55 -0500 (Mon, 03 Nov 2025) EllapsedTime: 5.3 seconds RetCode: 0 Status: OK