Package: RGraph2js Version: 1.38.0 Command: /Library/Frameworks/R.framework/Resources/bin/R CMD build --keep-empty-dirs --no-resave-data RGraph2js StartedAt: 2025-11-03 18:27:35 -0500 (Mon, 03 Nov 2025) EndedAt: 2025-11-03 18:27:51 -0500 (Mon, 03 Nov 2025) EllapsedTime: 16.0 seconds RetCode: 0 Status: OK PackageFile: RGraph2js_1.38.0.tar.gz PackageFileSize: 2.343 MiB