Package: RGraph2js Version: 1.38.0 Command: /Library/Frameworks/R.framework/Resources/bin/R CMD check --install=check:RGraph2js.install-out.txt --library=/Library/Frameworks/R.framework/Resources/library --no-vignettes --timings RGraph2js_1.38.0.tar.gz StartedAt: 2025-11-06 21:40:18 -0500 (Thu, 06 Nov 2025) EndedAt: 2025-11-06 21:40:33 -0500 (Thu, 06 Nov 2025) EllapsedTime: 14.2 seconds RetCode: 0 Status: OK CheckDir: RGraph2js.Rcheck Warnings: 0