Package: RGraph2js Version: 1.38.0 Command: rm -rf RGraph2js.buildbin-libdir && mkdir RGraph2js.buildbin-libdir && /Users/biocbuild/BBS/utils/build-universal.sh RGraph2js_1.38.0.tar.gz /Library/Frameworks/R.framework/Resources/bin/R RGraph2js.buildbin-libdir StartedAt: 2025-11-06 23:18:22 -0500 (Thu, 06 Nov 2025) EndedAt: 2025-11-06 23:18:24 -0500 (Thu, 06 Nov 2025) EllapsedTime: 2.0 seconds RetCode: 0 Status: OK PackageFile: RGraph2js_1.38.0.tgz PackageFileSize: 1.498 MiB