Package: RGSEA Version: 1.44.0 Command: /home/biocbuild/R/R/bin/R CMD INSTALL RGSEA StartedAt: 2025-11-17 21:17:26 -0000 (Mon, 17 Nov 2025) EndedAt: 2025-11-17 21:17:31 -0000 (Mon, 17 Nov 2025) EllapsedTime: 5.8 seconds RetCode: 0 Status: OK