Package: RGSEA Version: 1.44.0 Command: /home/biocbuild/R/R/bin/R CMD build --keep-empty-dirs --no-resave-data RGSEA StartedAt: 2025-11-18 04:25:42 -0000 (Tue, 18 Nov 2025) EndedAt: 2025-11-18 04:26:52 -0000 (Tue, 18 Nov 2025) EllapsedTime: 70.1 seconds RetCode: 0 Status: OK PackageFile: RGSEA_1.44.0.tar.gz PackageFileSize: 1.719 MiB