Package: RGSEA Version: 1.44.0 Command: /Library/Frameworks/R.framework/Resources/bin/R CMD INSTALL RGSEA StartedAt: 2025-11-20 16:05:24 -0500 (Thu, 20 Nov 2025) EndedAt: 2025-11-20 16:05:33 -0500 (Thu, 20 Nov 2025) EllapsedTime: 9.7 seconds RetCode: 0 Status: OK