Package: RGSEA Version: 1.44.0 Command: /Library/Frameworks/R.framework/Resources/bin/R CMD build --keep-empty-dirs --no-resave-data RGSEA StartedAt: 2025-11-20 23:05:32 -0500 (Thu, 20 Nov 2025) EndedAt: 2025-11-20 23:06:40 -0500 (Thu, 20 Nov 2025) EllapsedTime: 68.5 seconds RetCode: 0 Status: OK PackageFile: RGSEA_1.44.0.tar.gz PackageFileSize: 1.723 MiB