Package: RGSEA Version: 1.44.0 Command: rm -rf RGSEA.buildbin-libdir && mkdir RGSEA.buildbin-libdir && /Users/biocbuild/BBS/utils/build-universal.sh RGSEA_1.44.0.tar.gz /Library/Frameworks/R.framework/Resources/bin/R RGSEA.buildbin-libdir StartedAt: 2025-11-21 15:26:48 -0500 (Fri, 21 Nov 2025) EndedAt: 2025-11-21 15:26:55 -0500 (Fri, 21 Nov 2025) EllapsedTime: 6.5 seconds RetCode: 0 Status: OK PackageFile: RGSEA_1.44.0.tgz PackageFileSize: 1.749 MiB