Package: RGMQL Version: 1.28.0 Command: /home/biocbuild/bbs-3.21-bioc/R/bin/R CMD INSTALL RGMQL StartedAt: 2025-10-15 15:26:13 -0400 (Wed, 15 Oct 2025) EndedAt: 2025-10-15 15:26:49 -0400 (Wed, 15 Oct 2025) EllapsedTime: 36.1 seconds RetCode: 0 Status: OK