Package: RGMQL Version: 1.28.0 Command: /home/biocbuild/R/R/bin/R CMD build --keep-empty-dirs --no-resave-data RGMQL StartedAt: 2025-10-14 04:00:26 -0000 (Tue, 14 Oct 2025) EndedAt: 2025-10-14 04:01:38 -0000 (Tue, 14 Oct 2025) EllapsedTime: 72.0 seconds RetCode: 1 Status: ERROR PackageFile: None PackageFileSize: NA