Package: RFLOMICS Version: 1.1.4 Command: /home/biocbuild/R/R/bin/R CMD INSTALL RFLOMICS StartedAt: 2025-10-23 21:12:33 -0000 (Thu, 23 Oct 2025) EndedAt: 2025-10-23 21:13:44 -0000 (Thu, 23 Oct 2025) EllapsedTime: 70.7 seconds RetCode: 0 Status: OK