Package: RFLOMICS Version: 1.2.0 Command: /Library/Frameworks/R.framework/Resources/bin/R CMD INSTALL RFLOMICS StartedAt: 2025-11-10 15:25:19 -0500 (Mon, 10 Nov 2025) EndedAt: 2025-11-10 15:25:39 -0500 (Mon, 10 Nov 2025) EllapsedTime: 20.9 seconds RetCode: 0 Status: OK