Package: RFLOMICS Version: 1.2.0 Command: /Library/Frameworks/R.framework/Resources/bin/R CMD check --install=check:RFLOMICS.install-out.txt --library=/Library/Frameworks/R.framework/Resources/library --no-vignettes --timings RFLOMICS_1.2.0.tar.gz StartedAt: 2025-11-10 21:56:00 -0500 (Mon, 10 Nov 2025) EndedAt: 2025-11-10 21:59:48 -0500 (Mon, 10 Nov 2025) EllapsedTime: 227.9 seconds RetCode: 0 Status: OK CheckDir: RFLOMICS.Rcheck Warnings: 0