Package: RFLOMICS Version: 1.2.0 Command: rm -rf RFLOMICS.buildbin-libdir && mkdir RFLOMICS.buildbin-libdir && /Users/biocbuild/BBS/utils/build-universal.sh RFLOMICS_1.2.0.tar.gz /Library/Frameworks/R.framework/Resources/bin/R RFLOMICS.buildbin-libdir StartedAt: 2025-11-10 23:33:16 -0500 (Mon, 10 Nov 2025) EndedAt: 2025-11-10 23:33:38 -0500 (Mon, 10 Nov 2025) EllapsedTime: 22.4 seconds RetCode: 0 Status: OK PackageFile: RFLOMICS_1.2.0.tgz PackageFileSize: 4.935 MiB