Package: REDseq Version: 1.54.0 Command: rm -rf REDseq.buildbin-libdir && mkdir REDseq.buildbin-libdir && /Users/biocbuild/BBS/utils/build-universal.sh REDseq_1.54.0.tar.gz /Library/Frameworks/R.framework/Resources/bin/R REDseq.buildbin-libdir StartedAt: 2025-10-04 19:30:24 -0400 (Sat, 04 Oct 2025) EndedAt: 2025-10-04 19:31:26 -0400 (Sat, 04 Oct 2025) EllapsedTime: 61.9 seconds RetCode: 0 Status: OK PackageFile: REDseq_1.54.0.tgz PackageFileSize: 417.5 KiB