Package: REBET Version: 1.26.0 Command: /Library/Frameworks/R.framework/Resources/bin/R CMD build --keep-empty-dirs --no-resave-data REBET StartedAt: 2025-10-13 21:55:38 -0400 (Mon, 13 Oct 2025) EndedAt: 2025-10-13 21:56:06 -0400 (Mon, 13 Oct 2025) EllapsedTime: 28.0 seconds RetCode: 0 Status: OK PackageFile: REBET_1.26.0.tar.gz PackageFileSize: 310.6 KiB