Package: REBET Version: 1.26.0 Command: rm -rf REBET.buildbin-libdir && mkdir REBET.buildbin-libdir && /Users/biocbuild/BBS/utils/build-universal.sh REBET_1.26.0.tar.gz /Library/Frameworks/R.framework/Resources/bin/R REBET.buildbin-libdir StartedAt: 2025-10-14 14:30:52 -0400 (Tue, 14 Oct 2025) EndedAt: 2025-10-14 14:31:13 -0400 (Tue, 14 Oct 2025) EllapsedTime: 20.3 seconds RetCode: 0 Status: OK PackageFile: REBET_1.26.0.tgz PackageFileSize: 332.9 KiB