Package: REBET Version: 1.26.0 Command: /home/biocbuild/R/R/bin/R CMD INSTALL REBET StartedAt: 2025-10-13 20:18:20 -0000 (Mon, 13 Oct 2025) EndedAt: 2025-10-13 20:18:47 -0000 (Mon, 13 Oct 2025) EllapsedTime: 27.5 seconds RetCode: 0 Status: OK