Package: REBET Version: 1.26.0 Command: /home/biocbuild/R/R/bin/R CMD check --install=check:REBET.install-out.txt --library=/home/biocbuild/R/R/site-library --no-vignettes --timings REBET_1.26.0.tar.gz StartedAt: 2025-10-14 13:06:48 -0000 (Tue, 14 Oct 2025) EndedAt: 2025-10-14 13:07:48 -0000 (Tue, 14 Oct 2025) EllapsedTime: 60.1 seconds RetCode: 0 Status: OK CheckDir: REBET.Rcheck Warnings: 0