Package: REBET Version: 1.26.0 Command: /Library/Frameworks/R.framework/Resources/bin/R CMD INSTALL REBET StartedAt: 2025-10-13 15:19:16 -0400 (Mon, 13 Oct 2025) EndedAt: 2025-10-13 15:19:32 -0400 (Mon, 13 Oct 2025) EllapsedTime: 15.6 seconds RetCode: 0 Status: OK