Package: REBET Version: 1.26.0 Command: /Library/Frameworks/R.framework/Resources/bin/R CMD check --install=check:REBET.install-out.txt --library=/Library/Frameworks/R.framework/Resources/library --no-vignettes --timings REBET_1.26.0.tar.gz StartedAt: 2025-10-15 09:09:45 -0400 (Wed, 15 Oct 2025) EndedAt: 2025-10-15 09:10:48 -0400 (Wed, 15 Oct 2025) EllapsedTime: 63.8 seconds RetCode: 0 Status: OK CheckDir: REBET.Rcheck Warnings: 0