Package: RDRToolbox Version: 1.59.0 Command: F:\biocbuild\bbs-3.22-bioc\R\bin\R.exe CMD check --no-multiarch --install=check:RDRToolbox.install-out.txt --library=F:\biocbuild\bbs-3.22-bioc\R\library --no-vignettes --timings RDRToolbox_1.59.0.tar.gz StartedAt: 2025-08-15 06:52:57 -0400 (Fri, 15 Aug 2025) EndedAt: 2025-08-15 06:53:50 -0400 (Fri, 15 Aug 2025) EllapsedTime: 53.1 seconds RetCode: 0 Status: OK CheckDir: RDRToolbox.Rcheck Warnings: 0