Package: RDRToolbox Version: 1.60.0 Command: /home/biocbuild/bbs-3.22-bioc/R/bin/R CMD INSTALL RDRToolbox StartedAt: 2025-11-09 15:06:49 -0500 (Sun, 09 Nov 2025) EndedAt: 2025-11-09 15:07:27 -0500 (Sun, 09 Nov 2025) EllapsedTime: 37.8 seconds RetCode: 0 Status: OK